BEGIN:VCALENDAR
VERSION:2.0
PRODID:-// - ECPv6.15.20//NONSGML v1.0//EN
CALSCALE:GREGORIAN
METHOD:PUBLISH
X-ORIGINAL-URL:https://wca.org
X-WR-CALDESC:Events for 
REFRESH-INTERVAL;VALUE=DURATION:PT1H
X-Robots-Tag:noindex
X-PUBLISHED-TTL:PT1H
BEGIN:VTIMEZONE
TZID:America/Los_Angeles
BEGIN:DAYLIGHT
TZOFFSETFROM:-0800
TZOFFSETTO:-0700
TZNAME:PDT
DTSTART:20190310T100000
END:DAYLIGHT
BEGIN:STANDARD
TZOFFSETFROM:-0700
TZOFFSETTO:-0800
TZNAME:PST
DTSTART:20191103T090000
END:STANDARD
BEGIN:DAYLIGHT
TZOFFSETFROM:-0800
TZOFFSETTO:-0700
TZNAME:PDT
DTSTART:20200308T100000
END:DAYLIGHT
BEGIN:STANDARD
TZOFFSETFROM:-0700
TZOFFSETTO:-0800
TZNAME:PST
DTSTART:20201101T090000
END:STANDARD
BEGIN:DAYLIGHT
TZOFFSETFROM:-0800
TZOFFSETTO:-0700
TZNAME:PDT
DTSTART:20210314T100000
END:DAYLIGHT
BEGIN:STANDARD
TZOFFSETFROM:-0700
TZOFFSETTO:-0800
TZNAME:PST
DTSTART:20211107T090000
END:STANDARD
END:VTIMEZONE
BEGIN:VEVENT
DTSTART;VALUE=DATE:20200107
DTEND;VALUE=DATE:20200112
DTSTAMP:20260424T040517
CREATED:20191221T005758Z
LAST-MODIFIED:20191221T005758Z
UID:1986-1578362400-1578707999@wca.org
SUMMARY:CES 2020
DESCRIPTION:CES is the world’s gathering place for all those who thrive on the business of consumer technologies. It has served as the proving ground for innovators and breakthrough technologies for 50 years — the global stage where next-generation innovations are introduced to the marketplace.
URL:https://wca.org/event/ces-2020/
LOCATION:Las Vegas\, NV
CATEGORIES:Industry Events
END:VEVENT
BEGIN:VEVENT
DTSTART;TZID=America/Los_Angeles:20200107T020000
DTEND;TZID=America/Los_Angeles:20200111T015959
DTSTAMP:20260424T040517
CREATED:20191221T005758Z
LAST-MODIFIED:20191221T005758Z
UID:35572-1578362400-1578707999@wca.org
SUMMARY:CES 2020
DESCRIPTION:CES is the world’s gathering place for all those who thrive on the business of consumer technologies. It has served as the proving ground for innovators and breakthrough technologies for 50 years — the global stage where next-generation innovations are introduced to the marketplace.
URL:https://wca.org/event/ces-2020-2/
LOCATION:Las Vegas\, NV
CATEGORIES:Industry Events
END:VEVENT
BEGIN:VEVENT
DTSTART;VALUE=DATE:20200112
DTEND;VALUE=DATE:20200116
DTSTAMP:20260424T040517
CREATED:20191221T005857Z
LAST-MODIFIED:20191221T005857Z
UID:1989-1578794400-1579053599@wca.org
SUMMARY:NRF 2020 Vision
DESCRIPTION:In retail\, vision isn’t something you have\, it’s something you do. A course of action. A plan of attack. A way of working that not only predicts the future\, but creates it – one day at a time. That kind of vision isn’t easy to find\, but this year of all years it’s worth taking a closer look. NRF 2020: Retail’s Big Show. It’s the one place where we all come together to see beyond what is\, to reveal what could be. Plotting a vision for where we’re going by learning from where we’ve been. It’s where visionary talent meets visionary tech. Where big box retailers share out of the box ideas\, and the latest and greatest becomes the here and now.
URL:https://wca.org/event/nrf-2020-vision/
LOCATION:New York\, NY
CATEGORIES:Industry Events
END:VEVENT
BEGIN:VEVENT
DTSTART;VALUE=DATE:20200121
DTEND;VALUE=DATE:20200125
DTSTAMP:20260424T040517
CREATED:20191221T010053Z
LAST-MODIFIED:20191221T010053Z
UID:1992-1579572000-1579831199@wca.org
SUMMARY:Smart Cities International Symposium & Exhibition
DESCRIPTION:Smart Cities International Symposium & Exhibition brings together thought leaders and practitioners from around the world to explore the most recent technology advances\, business models\, and lessons learned to date in making the Smart City a reality.
URL:https://wca.org/event/smart-cities-international-symposium-exhibition/
LOCATION:Chicago\, IL
CATEGORIES:Industry Events
END:VEVENT
END:VCALENDAR