BEGIN:VCALENDAR
VERSION:2.0
PRODID:-// - ECPv6.15.20//NONSGML v1.0//EN
CALSCALE:GREGORIAN
METHOD:PUBLISH
X-ORIGINAL-URL:https://wca.org
X-WR-CALDESC:Events for 
REFRESH-INTERVAL;VALUE=DURATION:PT1H
X-Robots-Tag:noindex
X-PUBLISHED-TTL:PT1H
BEGIN:VTIMEZONE
TZID:America/Los_Angeles
BEGIN:DAYLIGHT
TZOFFSETFROM:-0800
TZOFFSETTO:-0700
TZNAME:PDT
DTSTART:20190310T100000
END:DAYLIGHT
BEGIN:STANDARD
TZOFFSETFROM:-0700
TZOFFSETTO:-0800
TZNAME:PST
DTSTART:20191103T090000
END:STANDARD
BEGIN:DAYLIGHT
TZOFFSETFROM:-0800
TZOFFSETTO:-0700
TZNAME:PDT
DTSTART:20200308T100000
END:DAYLIGHT
BEGIN:STANDARD
TZOFFSETFROM:-0700
TZOFFSETTO:-0800
TZNAME:PST
DTSTART:20201101T090000
END:STANDARD
BEGIN:DAYLIGHT
TZOFFSETFROM:-0800
TZOFFSETTO:-0700
TZNAME:PDT
DTSTART:20210314T100000
END:DAYLIGHT
BEGIN:STANDARD
TZOFFSETFROM:-0700
TZOFFSETTO:-0800
TZNAME:PST
DTSTART:20211107T090000
END:STANDARD
END:VTIMEZONE
BEGIN:VEVENT
DTSTART;VALUE=DATE:20200112
DTEND;VALUE=DATE:20200116
DTSTAMP:20260424T054125
CREATED:20191221T005857Z
LAST-MODIFIED:20191221T005857Z
UID:1989-1578794400-1579053599@wca.org
SUMMARY:NRF 2020 Vision
DESCRIPTION:In retail\, vision isn’t something you have\, it’s something you do. A course of action. A plan of attack. A way of working that not only predicts the future\, but creates it – one day at a time. That kind of vision isn’t easy to find\, but this year of all years it’s worth taking a closer look. NRF 2020: Retail’s Big Show. It’s the one place where we all come together to see beyond what is\, to reveal what could be. Plotting a vision for where we’re going by learning from where we’ve been. It’s where visionary talent meets visionary tech. Where big box retailers share out of the box ideas\, and the latest and greatest becomes the here and now.
URL:https://wca.org/event/nrf-2020-vision/
LOCATION:New York\, NY
CATEGORIES:Industry Events
END:VEVENT
END:VCALENDAR