BEGIN:VCALENDAR
VERSION:2.0
PRODID:-// - ECPv6.15.20//NONSGML v1.0//EN
CALSCALE:GREGORIAN
METHOD:PUBLISH
X-ORIGINAL-URL:https://wca.org
X-WR-CALDESC:Events for 
REFRESH-INTERVAL;VALUE=DURATION:PT1H
X-Robots-Tag:noindex
X-PUBLISHED-TTL:PT1H
BEGIN:VTIMEZONE
TZID:America/Los_Angeles
BEGIN:DAYLIGHT
TZOFFSETFROM:-0800
TZOFFSETTO:-0700
TZNAME:PDT
DTSTART:20190310T100000
END:DAYLIGHT
BEGIN:STANDARD
TZOFFSETFROM:-0700
TZOFFSETTO:-0800
TZNAME:PST
DTSTART:20191103T090000
END:STANDARD
BEGIN:DAYLIGHT
TZOFFSETFROM:-0800
TZOFFSETTO:-0700
TZNAME:PDT
DTSTART:20200308T100000
END:DAYLIGHT
BEGIN:STANDARD
TZOFFSETFROM:-0700
TZOFFSETTO:-0800
TZNAME:PST
DTSTART:20201101T090000
END:STANDARD
BEGIN:DAYLIGHT
TZOFFSETFROM:-0800
TZOFFSETTO:-0700
TZNAME:PDT
DTSTART:20210314T100000
END:DAYLIGHT
BEGIN:STANDARD
TZOFFSETFROM:-0700
TZOFFSETTO:-0800
TZNAME:PST
DTSTART:20211107T090000
END:STANDARD
END:VTIMEZONE
BEGIN:VEVENT
DTSTART;TZID=America/Los_Angeles:20200429T113000
DTEND;TZID=America/Los_Angeles:20200429T113000
DTSTAMP:20260423T214549
CREATED:20200425T163942Z
LAST-MODIFIED:20200425T164854Z
UID:2076-1588159800-1588159800@wca.org
SUMMARY:Wireless West Virtual Series
DESCRIPTION:The first series will be April 29th at 11:30am PT/2:30pm ET \n\n\n\nSession Topic: The Tower Hour \n\n\n\nSpeakers:Alex Gellman\, Vertical BridgeDanny Agresta\, APC TowersClayton Funk\, MVP CapitalLIVE Q & A to follow
URL:https://wca.org/event/wireless-west-virtual-series/
CATEGORIES:Industry Events
END:VEVENT
END:VCALENDAR