BEGIN:VCALENDAR
VERSION:2.0
PRODID:-// - ECPv6.15.20//NONSGML v1.0//EN
CALSCALE:GREGORIAN
METHOD:PUBLISH
X-ORIGINAL-URL:https://wca.org
X-WR-CALDESC:Events for 
REFRESH-INTERVAL;VALUE=DURATION:PT1H
X-Robots-Tag:noindex
X-PUBLISHED-TTL:PT1H
BEGIN:VTIMEZONE
TZID:America/Los_Angeles
BEGIN:DAYLIGHT
TZOFFSETFROM:-0800
TZOFFSETTO:-0700
TZNAME:PDT
DTSTART:20190310T100000
END:DAYLIGHT
BEGIN:STANDARD
TZOFFSETFROM:-0700
TZOFFSETTO:-0800
TZNAME:PST
DTSTART:20191103T090000
END:STANDARD
BEGIN:DAYLIGHT
TZOFFSETFROM:-0800
TZOFFSETTO:-0700
TZNAME:PDT
DTSTART:20200308T100000
END:DAYLIGHT
BEGIN:STANDARD
TZOFFSETFROM:-0700
TZOFFSETTO:-0800
TZNAME:PST
DTSTART:20201101T090000
END:STANDARD
BEGIN:DAYLIGHT
TZOFFSETFROM:-0800
TZOFFSETTO:-0700
TZNAME:PDT
DTSTART:20210314T100000
END:DAYLIGHT
BEGIN:STANDARD
TZOFFSETFROM:-0700
TZOFFSETTO:-0800
TZNAME:PST
DTSTART:20211107T090000
END:STANDARD
END:VTIMEZONE
BEGIN:VEVENT
DTSTART;TZID=America/Los_Angeles:20201014T010000
DTEND;TZID=America/Los_Angeles:20201016T060000
DTSTAMP:20260423T141321
CREATED:20200909T201938Z
LAST-MODIFIED:20200909T201938Z
UID:35590-1602637200-1602828000@wca.org
SUMMARY:One World Together - Cybersecurity Symposium for Smart Cities 2020
DESCRIPTION:Join the foremost thought leaders and doers in governments\, industry\, small businesses\, academia and nonprofits. For our next generations in the One World Together Via Technologies\, let’s listen\, learn and last. \n\n\n\nThe event is fast-paced. You will engage with keynotes\, use cases (including $0-cost eCommerce for small businesses and eResource Kit)\, solutions expo\, job fair\, birds-of-a-feather\, and a cybersecurity Catch-the-Flag. You will even help shape up a Declaration\, our Call-To-Action. \n\n\n\nBy the way\, did you know that NIST is working on a Smart Cities and Communities Framework? Join to find out how you can contribute. \n\n\n\nSpoiler alert: Raffle winners will receive signed books on Smart Cities (best pre-seller on Amazon due out in July) and others. Signed books for sale. Thank you\, Jonathan! \n\n\n\nVisit event site: https://adaptablesecurity.org/cybersecurity-symposium-for-smart-cities-2020/
URL:https://wca.org/event/one-world-together-cybersecurity-symposium-for-smart-cities-2020-2/
CATEGORIES:Industry Events
ATTACH;FMTTYPE=image/jpeg:https://wca.org/wp-content/uploads/https___cdn.evbuc_.com_images_105880696_237594438873_1_sm.jpg
END:VEVENT
END:VCALENDAR